BEGIN:VCALENDAR
VERSION:2.0
PRODID:-//Willy Street Co-op - ECPv6.11.2.1//NONSGML v1.0//EN
CALSCALE:GREGORIAN
METHOD:PUBLISH
X-WR-CALNAME:Willy Street Co-op
X-ORIGINAL-URL:https://www.willystreet.coop
X-WR-CALDESC:Events for Willy Street Co-op
REFRESH-INTERVAL;VALUE=DURATION:PT1H
X-Robots-Tag:noindex
X-PUBLISHED-TTL:PT1H
BEGIN:VTIMEZONE
TZID:America/Chicago
BEGIN:DAYLIGHT
TZOFFSETFROM:-0600
TZOFFSETTO:-0500
TZNAME:CDT
DTSTART:20260308T080000
END:DAYLIGHT
BEGIN:STANDARD
TZOFFSETFROM:-0500
TZOFFSETTO:-0600
TZNAME:CST
DTSTART:20261101T070000
END:STANDARD
END:VTIMEZONE
BEGIN:VEVENT
DTSTART;TZID=America/Chicago:20260414T180000
DTEND;TZID=America/Chicago:20260414T200000
DTSTAMP:20260424T174215
CREATED:20260210T165011Z
LAST-MODIFIED:20260210T165011Z
UID:10000698-1776189600-1776196800@www.willystreet.coop
SUMMARY:Knowledge of the Grandmothers: Stocks and Broths
DESCRIPTION:Our grandmothers knew the healing power of stocks and broths. Linda Conroy will share their benefits in a hands-on workshop. Participants will be inspired to boost the nutritional value and flavor of stocks and broths\, using vegetables\, mushrooms\, beef and chicken bones\, and herbs. Bring your favorite vessel to take home base ingredients. Recipes\, samples\, and base ingredients are included.  \nDemonstration and hands-on. \nTips for class attendees: \n\nClose-toed shoes\, clothes that are not baggy or bulky\, and long hair that is restrained are always good choices in the kitchen.\nOut of consideration for other guests\, refrain from wearing colognes\, perfumes\, or anything else that may carry a strong odor. You will be in very close proximity to your fellow classmates.\nContact us to address any questions or concerns you may have regarding food allergies or restrictions well in advance of the day of class.\nOur classes have various levels of hands-on activity. Please refer to the specific class description.\nInstructors encourage guests to engage and ask questions; however\, please avoid holding side conversations that disrupt the class for others.\nArrive 5-10 minutes prior to the start of class to give yourself time to sign in and get settled before we begin.\nFeel free to contact us with any questions.\n\nClass Refund Policy: Unless otherwise stated in the event description\, registrations for events canceled by Willy Street Co-op will be fully refunded. Individuals wishing to cancel their registration for events must contact education@willystreet.coop at least 72 hours in advance to receive a full refund. No refunds will be issued for cancellations made within 72 hours of an event. To cover incurred costs\, there are no exceptions to the refund policy.
URL:https://www.willystreet.coop/event/knowledge-of-the-grandmothers-stocks-and-broths/
LOCATION:Aubergine\, 1226 Williamson St.\, Madison\, WI\, 53703\, United States
CATEGORIES:Cooking Class,DIY
ATTACH;FMTTYPE=image/jpeg:https://www.willystreet.coop/wp-content/uploads/2024/06/Easy_Chicken_Stock_0.jpg
END:VEVENT
BEGIN:VEVENT
DTSTART;TZID=America/Chicago:20260411T090000
DTEND;TZID=America/Chicago:20260411T110000
DTSTAMP:20260424T174215
CREATED:20260210T151618Z
LAST-MODIFIED:20260302T122358Z
UID:10000694-1775898000-1775905200@www.willystreet.coop
SUMMARY:SOLD OUT Baking Sourdough Bread
DESCRIPTION:Learn the art of sourdough—and enjoy fresh bread\, too! In this hands-on class\, discover the health benefits of sourdough\, how to care for a starter\, and how to mix\, knead\, shape\, and bake bread. You’ll take home a dough ball to bake\, an organic starter with locally grown flour to feed it\, and a recommended supply list. Please bring a small bowl and a tea towel to transport your dough.  \nRecipes contain: wheat.  \nHands-on. \nTips for class attendees: \n\nClose-toed shoes\, clothes that are not baggy or bulky\, and long hair that is restrained are always good choices in the kitchen.\nOut of consideration for other guests\, refrain from wearing colognes\, perfumes\, or anything else that may carry a strong odor. You will be in very close proximity to your fellow classmates.\nContact us to address any questions or concerns you may have regarding food allergies or restrictions well in advance of the day of class.\nOur classes have various levels of hands-on activity. Please refer to the specific class description.\nInstructors encourage guests to engage and ask questions; however\, please avoid holding side conversations that disrupt the class for others.\nArrive 5-10 minutes prior to the start of class to give yourself time to sign in and get settled before we begin.\nFeel free to contact us with any questions.\n\nClass Refund Policy: Unless otherwise stated in the event description\, registrations for events canceled by Willy Street Co-op will be fully refunded. Individuals wishing to cancel their registration for events must contact education@willystreet.coop at least 72 hours in advance to receive a full refund. No refunds will be issued for cancellations made within 72 hours of an event. To cover incurred costs\, there are no exceptions to the refund policy.
URL:https://www.willystreet.coop/event/baking-sourdough-bread-5/
LOCATION:Aubergine\, 1226 Williamson St.\, Madison\, WI\, 53703\, United States
CATEGORIES:Baking Class,DIY
ATTACH;FMTTYPE=image/jpeg:https://www.willystreet.coop/wp-content/uploads/2025/07/Wendy-with-beets-scaled-e1753703429408.jpg
END:VEVENT
BEGIN:VEVENT
DTSTART;TZID=America/Chicago:20260330T173000
DTEND;TZID=America/Chicago:20260330T193000
DTSTAMP:20260424T174215
CREATED:20251114T145724Z
LAST-MODIFIED:20260319T151456Z
UID:10000650-1774891800-1774899000@www.willystreet.coop
SUMMARY:SOLD OUT Using Sourdough in Everyday Recipes
DESCRIPTION:Maybe you have a sourdough starter and know how to make bread\, but what about the other things you can do with both active starter and “discard?” Come learn to use sourdough in everyday cooking and baking. Taste test and get experience making some classics—sourdough pizza dough\, tortillas\, pancakes\, and muffins. All materials are provided\, and everyone will take home pizza and tortilla dough. Recipes contain: milk\, eggs\, and wheat. Hands-on.  \n\nTips for class attendees: \n\nClose-toed shoes\, clothes that are not baggy or bulky\, and long hair that is restrained are always good choices in the kitchen.\nOut of consideration for other guests\, refrain from wearing colognes\, perfumes\, or anything else that may carry a strong odor. You will be in very close proximity to your fellow classmates.\nContact us to address any questions or concerns you may have regarding food allergies or restrictions well in advance of the day of class.\nOur classes have various levels of hands-on activity. Please refer to the specific class description.\nInstructors encourage guests to engage and ask questions; however\, please avoid holding side conversations that disrupt the class for others.\nArrive 5-10 minutes prior to the start of class to give yourself time to sign in and get settled before we begin.\nFeel free to contact us with any questions.\n\nClass Refund Policy: Unless otherwise stated in the event description\, registrations for events canceled by Willy Street Co-op will be fully refunded. Individuals wishing to cancel their registration for events must contact education@willystreet.coop at least 72 hours in advance to receive a full refund. No refunds will be issued for cancellations made within 72 hours of an event. To cover incurred costs\, there are no exceptions to the refund policy.
URL:https://www.willystreet.coop/event/using-sourdough-in-everyday-recipes-2/
LOCATION:Willy Street Co-op West\, 6825 University Ave\, Middleton\, WI\, 53562\, United States
CATEGORIES:Baking Class,DIY
ATTACH;FMTTYPE=image/jpeg:https://www.willystreet.coop/wp-content/uploads/2025/07/Wendy-with-beets-scaled-e1753703429408.jpg
END:VEVENT
END:VCALENDAR