BEGIN:VCALENDAR
VERSION:2.0
PRODID:-//Willy Street Co-op - ECPv6.11.2.1//NONSGML v1.0//EN
CALSCALE:GREGORIAN
METHOD:PUBLISH
X-ORIGINAL-URL:https://www.willystreet.coop
X-WR-CALDESC:Events for Willy Street Co-op
REFRESH-INTERVAL;VALUE=DURATION:PT1H
X-Robots-Tag:noindex
X-PUBLISHED-TTL:PT1H
BEGIN:VTIMEZONE
TZID:America/Chicago
BEGIN:DAYLIGHT
TZOFFSETFROM:-0600
TZOFFSETTO:-0500
TZNAME:CDT
DTSTART:20260308T080000
END:DAYLIGHT
BEGIN:STANDARD
TZOFFSETFROM:-0500
TZOFFSETTO:-0600
TZNAME:CST
DTSTART:20261101T070000
END:STANDARD
END:VTIMEZONE
BEGIN:VEVENT
DTSTART;TZID=America/Chicago:20260422T160000
DTEND;TZID=America/Chicago:20260422T170000
DTSTAMP:20260424T080503
CREATED:20260210T135901Z
LAST-MODIFIED:20260210T135901Z
UID:10000689-1776873600-1776877200@www.willystreet.coop
SUMMARY:Sprouts: Earth Day Party!
DESCRIPTION:Mr. T and the Sprouts are celebrating Earth Day with some fun and tasty kitchen activities. We’ll make some green smoothies\, whip up some veggies and dip\, get a bit grossed out making edible “dirt cups (with worms!)\,” and then plant some herb seeds in a cup to take home to grow in the kitchen window.  \nRecipes contain: dairy\, wheat\, eggs. \nClass Notes: \n\nThis is a hands-on cooking class for kids only.\nRefund Policy: Unless otherwise stated in the event description\, registrations for events canceled by Willy Street Co-op will be fully refunded. Individuals wishing to cancel their registration for events must contact education@willystreet.coop at least 72 hours in advance to receive a full refund. No refunds will be issued for cancellations made within 72 hours of an event. To cover incurred costs\, there are no exceptions to the refund policy.\n\nTips for Adults Bringing Kids to a Cooking Class: \n\nTie back long hair.\nDress for class. In other words\, dress in clean clothes that are okay to get messy! Also\, short sleeves (or sleeves that will roll up and stay up) are a good idea\, and an apron is an even better one.\nClosed-toed shoes are required. Please no sandals\, flip-flops\, or similar footwear.\nArrive 5 minutes before class starts so we can begin on time and all together. Class will begin promptly at the scheduled time. Please return at least 5 minutes prior to the scheduled end of class for pickup.\nPlease provide any information regarding food allergies or other dietary restrictions when you register.\nDo come hungry\, we will eat what we cook!\nContact us at education@willystreet.coop with any questions.
URL:https://www.willystreet.coop/event/sprouts-earth-day-party-2/
LOCATION:Aubergine\, 1226 Williamson St.\, Madison\, WI\, 53703\, United States
CATEGORIES:Kids Cooking Classes
ATTACH;FMTTYPE=image/jpeg:https://www.willystreet.coop/wp-content/uploads/2024/05/kids-cooking-class-photo.jpg
END:VEVENT
BEGIN:VEVENT
DTSTART;TZID=America/Chicago:20260421T160000
DTEND;TZID=America/Chicago:20260421T170000
DTSTAMP:20260424T080503
CREATED:20260210T135649Z
LAST-MODIFIED:20260406T122116Z
UID:10000688-1776787200-1776790800@www.willystreet.coop
SUMMARY:SOLD OUT Sprouts: Earth Day Party!
DESCRIPTION:Mr. T and the Sprouts are celebrating Earth Day with some fun and tasty kitchen activities. We’ll make some green smoothies\, whip up some veggies and dip\, get a bit grossed out making edible “dirt cups (with worms!)\,” and then plant some herb seeds in a cup to take home to grow in the kitchen window. Recipes contain: dairy\, wheat\, eggs. Hands-on. \nClass Notes: \n\nThis is a hands-on cooking class for kids only.\nRefund Policy: Unless otherwise stated in the event description\, registrations for events canceled by Willy Street Co-op will be fully refunded. Individuals wishing to cancel their registration for events must contact education@willystreet.coop at least 72 hours in advance to receive a full refund. No refunds will be issued for cancellations made within 72 hours of an event. To cover incurred costs\, there are no exceptions to the refund policy.\n\nTips for Adults Bringing Kids to a Cooking Class: \n\nTie back long hair.\nDress for class. In other words\, dress in clean clothes that are okay to get messy! Also\, short sleeves (or sleeves that will roll up and stay up) are a good idea\, and an apron is an even better one.\nClosed-toed shoes are required. Please no sandals\, flip-flops\, or similar footwear.\nArrive 5 minutes before class starts so we can begin on time and all together. Class will begin promptly at the scheduled time. Please return at least 5 minutes prior to the scheduled end of class for pickup.\nPlease provide any information regarding food allergies or other dietary restrictions when you register.\nDo come hungry\, we will eat what we cook!\nContact us at education@willystreet.coop with any questions.
URL:https://www.willystreet.coop/event/sprouts-earth-day-party/
LOCATION:Willy Street Co-op West\, 6825 University Ave\, Middleton\, WI\, 53562\, United States
CATEGORIES:Kids Cooking Classes
ATTACH;FMTTYPE=image/jpeg:https://www.willystreet.coop/wp-content/uploads/2024/05/kids-cooking-class-photo.jpg
END:VEVENT
BEGIN:VEVENT
DTSTART;TZID=America/Chicago:20260326T160000
DTEND;TZID=America/Chicago:20260326T170000
DTSTAMP:20260424T080503
CREATED:20251117T170647Z
LAST-MODIFIED:20251117T170647Z
UID:10000677-1774540800-1774544400@www.willystreet.coop
SUMMARY:Sprouts: Pop Don't Stop
DESCRIPTION:Join Mr. T. and the Sprouts to make popcorn the old-fashioned way\, in a big pot—no microwave required! We’ll pop some up and turn some into popcorn balls to take home\, some we’ll drizzle with chocolate\, and then we’ll snack on some classic buttery\, salty popcorn with a sweet beverage.  \nRecipes contain: milk and tree nuts. \nClass Notes: \n\nThis is a hands-on cooking class for kids only.\nRefund Policy: Unless otherwise stated in the event description\, registrations for events canceled by Willy Street Co-op will be fully refunded. Individuals wishing to cancel their registration for events must contact education@willystreet.coop at least 72 hours in advance to receive a full refund. No refunds will be issued for cancellations made within 72 hours of an event. To cover incurred costs\, there are no exceptions to the refund policy.\n\nTips for Adults Bringing Kids to a Cooking Class: \n\nTie back long hair.\nDress for class. In other words\, dress in clean clothes that are okay to get messy! Also\, short sleeves (or sleeves that will roll up and stay up) are a good idea\, and an apron is an even better one.\nClosed-toed shoes are required. Please no sandals\, flip-flops\, or similar footwear.\nArrive 5 minutes before class starts so we can begin on time and all together. Class will begin promptly at the scheduled time. Please return at least 5 minutes prior to the scheduled end of class for pickup.\nPlease provide any information regarding food allergies or other dietary restrictions when you register.\nDo come hungry\, we will eat what we cook!\nContact us at education@willystreet.coop with any questions.
URL:https://www.willystreet.coop/event/sprouts-pop-dont-stop/
LOCATION:Aubergine\, 1226 Williamson St.\, Madison\, WI\, 53703\, United States
CATEGORIES:Kids Cooking Classes
ATTACH;FMTTYPE=image/jpeg:https://www.willystreet.coop/wp-content/uploads/2024/05/kids-cooking-class-photo.jpg
END:VEVENT
END:VCALENDAR