BEGIN:VCALENDAR
VERSION:2.0
PRODID:-//Willy Street Co-op - ECPv6.11.2.1//NONSGML v1.0//EN
CALSCALE:GREGORIAN
METHOD:PUBLISH
X-ORIGINAL-URL:https://www.willystreet.coop
X-WR-CALDESC:Events for Willy Street Co-op
REFRESH-INTERVAL;VALUE=DURATION:PT1H
X-Robots-Tag:noindex
X-PUBLISHED-TTL:PT1H
BEGIN:VTIMEZONE
TZID:America/Chicago
BEGIN:DAYLIGHT
TZOFFSETFROM:-0600
TZOFFSETTO:-0500
TZNAME:CDT
DTSTART:20260308T080000
END:DAYLIGHT
BEGIN:STANDARD
TZOFFSETFROM:-0500
TZOFFSETTO:-0600
TZNAME:CST
DTSTART:20261101T070000
END:STANDARD
END:VTIMEZONE
BEGIN:VEVENT
DTSTART;TZID=America/Chicago:20260422T160000
DTEND;TZID=America/Chicago:20260422T170000
DTSTAMP:20260422T034831
CREATED:20260210T135901Z
LAST-MODIFIED:20260210T135901Z
UID:10000689-1776873600-1776877200@www.willystreet.coop
SUMMARY:Sprouts: Earth Day Party!
DESCRIPTION:Mr. T and the Sprouts are celebrating Earth Day with some fun and tasty kitchen activities. We’ll make some green smoothies\, whip up some veggies and dip\, get a bit grossed out making edible “dirt cups (with worms!)\,” and then plant some herb seeds in a cup to take home to grow in the kitchen window.  \nRecipes contain: dairy\, wheat\, eggs. \nClass Notes: \n\nThis is a hands-on cooking class for kids only.\nRefund Policy: Unless otherwise stated in the event description\, registrations for events canceled by Willy Street Co-op will be fully refunded. Individuals wishing to cancel their registration for events must contact education@willystreet.coop at least 72 hours in advance to receive a full refund. No refunds will be issued for cancellations made within 72 hours of an event. To cover incurred costs\, there are no exceptions to the refund policy.\n\nTips for Adults Bringing Kids to a Cooking Class: \n\nTie back long hair.\nDress for class. In other words\, dress in clean clothes that are okay to get messy! Also\, short sleeves (or sleeves that will roll up and stay up) are a good idea\, and an apron is an even better one.\nClosed-toed shoes are required. Please no sandals\, flip-flops\, or similar footwear.\nArrive 5 minutes before class starts so we can begin on time and all together. Class will begin promptly at the scheduled time. Please return at least 5 minutes prior to the scheduled end of class for pickup.\nPlease provide any information regarding food allergies or other dietary restrictions when you register.\nDo come hungry\, we will eat what we cook!\nContact us at education@willystreet.coop with any questions.
URL:https://www.willystreet.coop/event/sprouts-earth-day-party-2/
LOCATION:Aubergine\, 1226 Williamson St.\, Madison\, WI\, 53703\, United States
CATEGORIES:Kids Cooking Classes
ATTACH;FMTTYPE=image/jpeg:https://www.willystreet.coop/wp-content/uploads/2024/05/kids-cooking-class-photo.jpg
END:VEVENT
BEGIN:VEVENT
DTSTART;TZID=America/Chicago:20260422T173000
DTEND;TZID=America/Chicago:20260422T190000
DTSTAMP:20260422T034831
CREATED:20260210T170845Z
LAST-MODIFIED:20260210T170845Z
UID:10000702-1776879000-1776884400@www.willystreet.coop
SUMMARY:It's Garden Time!
DESCRIPTION:It’s time to raise our gardens from their winter slumber (or to manifest a new garden if you’re a first-timer)! Growing your own food\, herbs\, and flowers is one of the most joyful and rewarding experiences. Wendy will talk about how to get your gardening on by addressing setup\, timing\, and consistency. Spring/cool-weather gardening is upon us\, and summer is just around the corner! 
URL:https://www.willystreet.coop/event/its-garden-time/
LOCATION:Willy Street Co-op West\, 6825 University Ave\, Middleton\, WI\, 53562\, United States
CATEGORIES:Gardening Class
ATTACH;FMTTYPE=image/jpeg:https://www.willystreet.coop/wp-content/uploads/2025/07/Wendy-with-beets-scaled-e1753703429408.jpg
END:VEVENT
BEGIN:VEVENT
DTSTART;TZID=America/Chicago:20260422T183000
DTEND;TZID=America/Chicago:20260422T203000
DTSTAMP:20260422T034831
CREATED:20251022T212708Z
LAST-MODIFIED:20251022T212708Z
UID:10000637-1776882600-1776889800@www.willystreet.coop
SUMMARY:Board of Directors Meeting
DESCRIPTION:
URL:https://www.willystreet.coop/event/board-of-directors-meeting-6/
LOCATION:Central Office – Williamson Street Grocery Co-op\, 1457 East Washington Ave.\, Madison\, WI\, 53703\, United States
CATEGORIES:Board
END:VEVENT
BEGIN:VEVENT
DTSTART;TZID=America/Chicago:20260423T173000
DTEND;TZID=America/Chicago:20260423T193000
DTSTAMP:20260422T034831
CREATED:20260210T170416Z
LAST-MODIFIED:20260406T181825Z
UID:10000701-1776965400-1776972600@www.willystreet.coop
SUMMARY:SOLD OUT Cooking with Chef Paul: Thai Curry and Spring Rolls
DESCRIPTION:Join Chef Paul to learn how to make a Thai fresh curry paste and turn into a curry dish (vegetarian or carnivore—your choice). In addition\, we will also explore the fresh spring rolls with various protiens\, vegetables\, and sauces.  \nRecipes contain: seafood.  \nDemonstration. \n\nTips for class attendees: \n\nClose-toed shoes\, clothes that are not baggy or bulky\, and long hair that is restrained are always good choices in the kitchen.\nOut of consideration for other guests\, refrain from wearing colognes\, perfumes\, or anything else that may carry a strong odor. You will be in very close proximity to your fellow classmates.\nContact us to address any questions or concerns you may have regarding food allergies or restrictions well in advance of the day of class.\nOur classes have various levels of hands-on activity. Please refer to the specific class description.\nInstructors encourage guests to engage and ask questions; however\, please avoid holding side conversations that disrupt the class for others.\nArrive 5-10 minutes prior to the start of class to give yourself time to sign in and get settled before we begin.\nFeel free to contact us with any questions.\n\nClass Refund Policy: Unless otherwise stated in the event description\, registrations for events canceled by Willy Street Co-op will be fully refunded. Individuals wishing to cancel their registration for events must contact education@willystreet.coop at least 72 hours in advance to receive a full refund. No refunds will be issued for cancellations made within 72 hours of an event. To cover incurred costs\, there are no exceptions to the refund policy.
URL:https://www.willystreet.coop/event/cooking-with-chef-paul-thai-curry-and-spring-rolls/
LOCATION:Willy Street Co-op West\, 6825 University Ave\, Middleton\, WI\, 53562\, United States
CATEGORIES:Cooking Class
ATTACH;FMTTYPE=image/jpeg:https://www.willystreet.coop/wp-content/uploads/2025/11/Paul-Tseng-2.jpg
END:VEVENT
BEGIN:VEVENT
DTSTART;TZID=America/Chicago:20260425T093000
DTEND;TZID=America/Chicago:20260425T110000
DTSTAMP:20260422T034831
CREATED:20260210T171124Z
LAST-MODIFIED:20260210T171124Z
UID:10000703-1777109400-1777114800@www.willystreet.coop
SUMMARY:It's Garden Time!
DESCRIPTION:It’s time to raise our gardens from their winter slumber (or to manifest a new garden if you’re a first-timer)! Growing your own food\, herbs\, and flowers is one of the most joyful and rewarding experiences. Wendy will talk about how to get your gardening on by addressing setup\, timing\, and consistency. Spring/cool-weather gardening is upon us\, and summer is just around the corner! 
URL:https://www.willystreet.coop/event/its-garden-time-2/
LOCATION:Aubergine\, 1226 Williamson St.\, Madison\, WI\, 53703\, United States
CATEGORIES:Gardening Class
ATTACH;FMTTYPE=image/jpeg:https://www.willystreet.coop/wp-content/uploads/2025/07/Wendy-with-beets-scaled-e1753703429408.jpg
END:VEVENT
BEGIN:VEVENT
DTSTART;TZID=America/Chicago:20260430T173000
DTEND;TZID=America/Chicago:20260430T203000
DTSTAMP:20260422T034831
CREATED:20260210T151939Z
LAST-MODIFIED:20260225T184607Z
UID:10000695-1777570200-1777581000@www.willystreet.coop
SUMMARY:Baking with Chef Paul: Spring Puff Pastry
DESCRIPTION:Wondering how to make classic or fast puff pastry? Join Chef Paul in this class to make you happy and learn everything you need to know about puff pastry. On the menu: puff pastry loaded with seasonal vegetables\, mini wellingtons\, radish tarts\, cheese straws\, and more—all from scratch.  \nRecipes contain: wheat\, egg.  \nDemonstration. \nTips for class attendees: \n\nClose-toed shoes\, clothes that are not baggy or bulky\, and long hair that is restrained are always good choices in the kitchen.\nOut of consideration for other guests\, refrain from wearing colognes\, perfumes\, or anything else that may carry a strong odor. You will be in very close proximity to your fellow classmates.\nContact us to address any questions or concerns you may have regarding food allergies or restrictions well in advance of the day of class.\nOur classes have various levels of hands-on activity. Please refer to the specific class description.\nInstructors encourage guests to engage and ask questions; however\, please avoid holding side conversations that disrupt the class for others.\nArrive 5-10 minutes prior to the start of class to give yourself time to sign in and get settled before we begin.\nFeel free to contact us with any questions.\n\nClass Refund Policy: Unless otherwise stated in the event description\, registrations for events canceled by Willy Street Co-op will be fully refunded. Individuals wishing to cancel their registration for events must contact education@willystreet.coop at least 72 hours in advance to receive a full refund. No refunds will be issued for cancellations made within 72 hours of an event. To cover incurred costs\, there are no exceptions to the refund policy.
URL:https://www.willystreet.coop/event/baking-with-chef-paul-spring-puff-pastry/
LOCATION:Aubergine\, 1226 Williamson St.\, Madison\, WI\, 53703\, United States
CATEGORIES:Baking Class
ATTACH;FMTTYPE=image/jpeg:https://www.willystreet.coop/wp-content/uploads/2025/11/Paul-Tseng-2.jpg
END:VEVENT
END:VCALENDAR